BEGIN:VCALENDAR
VERSION:2.0
PRODID:-//ChamberMaster//Event Calendar 2.0//EN
METHOD:PUBLISH
X-PUBLISHED-TTL:P1H
REFRESH-INTERVAL:P1H
CALSCALE:GREGORIAN
BEGIN:VTIMEZONE
TZID:America/Denver
BEGIN:DAYLIGHT
RRULE:FREQ=YEARLY;BYMONTH=3;BYDAY=2SU
DTSTART:20070101T000000
TZOFFSETFROM:-0700
TZOFFSETTO:-0600
TZNAME:Mountain Daylight Time
END:DAYLIGHT
BEGIN:STANDARD
RRULE:FREQ=YEARLY;BYMONTH=11;BYDAY=1SU
DTSTART:20070101T000000
TZOFFSETFROM:-0600
TZOFFSETTO:-0700
TZNAME:Mountain Standard Time
END:STANDARD
END:VTIMEZONE
BEGIN:VEVENT
DTSTART;TZID=America/Denver:20250909T120000
DTEND;TZID=America/Denver:20250909T130000
X-MICROSOFT-CDO-ALLDAYEVENT:FALSE
SUMMARY:Agency Compensation 360: What Agents Need To Know
DESCRIPTION:Free for Catalyit Basic & Full Access Agency SubscribersOn September 4\, we're launching Agency Compensation 360\, the first-ever\, multi-state compensation survey built specifically for independent insurance agencies and powered by Big "I" associations. This isn't just another generic industry report   it's your chance to get real\, independent agency-specific salary\, benefits\, and commission data that you can actually use. Learn more here.Join this session to learn more about the Agency Compensation 360 Study starting September 4th. More information coming soon.Register now to secure your spot!
X-ALT-DESC;FMTTYPE=text/html:<!DOCTYPE html><html><head><title></title></head><body aria-disabled="false"><p style="box-sizing: border-box\; margin: 0px 0px 24px\; color: rgb(75\, 79\, 88)\; font-family: Montserrat\, sans-serif\; font-size: 20px\; font-style: normal\; font-variant-ligatures: normal\; font-variant-caps: normal\; font-weight: 400\; letter-spacing: normal\; orphans: 2\; text-align: start\; text-indent: 0px\; text-transform: none\; widows: 2\; word-spacing: 0px\; -webkit-text-stroke-width: 0px\; white-space: normal\; background-color: rgb(255\, 255\, 255)\; text-decoration-thickness: initial\; text-decoration-style: initial\; text-decoration-color: initial\;"><span style="font-size: 18px\; color: rgb(0\, 0\, 0)\;">Free for Catalyit Basic &amp\; Full Access Agency Subscribers</span></p><p style="box-sizing: border-box\; margin: 0px 0px 24px\; color: rgb(75\, 79\, 88)\; font-family: Montserrat\, sans-serif\; font-size: 20px\; font-style: normal\; font-variant-ligatures: normal\; font-variant-caps: normal\; font-weight: 400\; letter-spacing: normal\; orphans: 2\; text-align: start\; text-indent: 0px\; text-transform: none\; widows: 2\; word-spacing: 0px\; -webkit-text-stroke-width: 0px\; white-space: normal\; background-color: rgb(255\, 255\, 255)\; text-decoration-thickness: initial\; text-decoration-style: initial\; text-decoration-color: initial\;"><span style="color: rgb(0\, 0\, 0)\;"><span style="font-size: 18px\;">On September 4\, we&rsquo\;re launching <strong fr-original-style="box-sizing: border-box\; margin: 0px\; padding: 0px\; border: 0px\; outline: 0px\; font-size: 16px\; text-size-adjust: 100%\; vertical-align: baseline\; background: transparent\; font-weight: 700\;" style="box-sizing: border-box\; margin: 0px\; padding: 0px\; border: 0px\; outline: 0px\; font-size: 16px\; text-size-adjust: 100%\; vertical-align: baseline\; background: transparent\; font-weight: 700\;">Agency Compensation 360</strong>\, the first-ever\, multi-state compensation survey built specifically for independent insurance agencies and powered by Big &ldquo\;I&rdquo\; associations. This isn&rsquo\;t just another generic industry report &ndash\; it&rsquo\;s your chance to get real\, independent agency-specific salary\, benefits\, and commission data that you can actually use. Learn more </span></span><span style="color: rgb(41\, 105\, 176)\;"><a fr-original-style="" href="https://piiac.com/agency-compensation-360-launches-september-4-and-we-need-your-input/" rel="noopener noreferrer" style="user-select: auto\; color: inherit\;" target="_blank"><span style="font-size: 18px\;">here</span></a></span><span style="color: rgb(0\, 0\, 0)\;"><span style="font-size: 18px\;">.</span></span></p><p style="box-sizing: border-box\; margin: 0px 0px 24px\; color: rgb(75\, 79\, 88)\; font-family: Montserrat\, sans-serif\; font-size: 20px\; font-style: normal\; font-variant-ligatures: normal\; font-variant-caps: normal\; font-weight: 400\; letter-spacing: normal\; orphans: 2\; text-align: start\; text-indent: 0px\; text-transform: none\; widows: 2\; word-spacing: 0px\; -webkit-text-stroke-width: 0px\; white-space: normal\; background-color: rgb(255\, 255\, 255)\; text-decoration-thickness: initial\; text-decoration-style: initial\; text-decoration-color: initial\;"><span style="color: rgb(0\, 0\, 0)\;"><span style="font-size: 18px\;">Join this session to learn more about the Agency Compensation 360 Study starting September 4th. More information coming soon.</span></span></p><p style="box-sizing: border-box\; margin: 0px 0px 24px\; color: rgb(75\, 79\, 88)\; font-family: Montserrat\, sans-serif\; font-size: 20px\; font-style: normal\; font-variant-ligatures: normal\; font-variant-caps: normal\; font-weight: 400\; letter-spacing: normal\; orphans: 2\; text-align: start\; text-indent: 0px\; text-transform: none\; widows: 2\; word-spacing: 0px\; -webkit-text-stroke-width: 0px\; white-space: normal\; background-color: rgb(255\, 255\, 255)\; text-decoration-thickness: initial\; text-decoration-style: initial\; text-decoration-color: initial\;"><span style="font-size: 18px\; color: rgb(0\, 0\, 0)\;">Register now to secure your spot!</span></p></body></html>
LOCATION:
UID:e.647.1255285
SEQUENCE:3
DTSTAMP:20260419T134221Z
URL:https://piiac.growthzoneapp.com/events/Details/agency-compensation-360-what-agents-need-to-know-1467865?sourceTypeId=Hub
END:VEVENT
END:VCALENDAR
